BEGIN:VCALENDAR
VERSION:2.0
PRODID:-//La compagnie TJP - ECPv6.15.13.1//NONSGML v1.0//EN
CALSCALE:GREGORIAN
METHOD:PUBLISH
X-WR-CALNAME:La compagnie TJP
X-ORIGINAL-URL:https://compagnie.tjp.ch
X-WR-CALDESC:Évènements pour La compagnie TJP
REFRESH-INTERVAL;VALUE=DURATION:PT1H
X-Robots-Tag:noindex
X-PUBLISHED-TTL:PT1H
BEGIN:VTIMEZONE
TZID:Europe/Zurich
BEGIN:DAYLIGHT
TZOFFSETFROM:+0100
TZOFFSETTO:+0200
TZNAME:CEST
DTSTART:20240331T010000
END:DAYLIGHT
BEGIN:STANDARD
TZOFFSETFROM:+0200
TZOFFSETTO:+0100
TZNAME:CET
DTSTART:20241027T010000
END:STANDARD
BEGIN:DAYLIGHT
TZOFFSETFROM:+0100
TZOFFSETTO:+0200
TZNAME:CEST
DTSTART:20250330T010000
END:DAYLIGHT
BEGIN:STANDARD
TZOFFSETFROM:+0200
TZOFFSETTO:+0100
TZNAME:CET
DTSTART:20251026T010000
END:STANDARD
BEGIN:DAYLIGHT
TZOFFSETFROM:+0100
TZOFFSETTO:+0200
TZNAME:CEST
DTSTART:20260329T010000
END:DAYLIGHT
BEGIN:STANDARD
TZOFFSETFROM:+0200
TZOFFSETTO:+0100
TZNAME:CET
DTSTART:20261025T010000
END:STANDARD
END:VTIMEZONE
BEGIN:VEVENT
DTSTART;TZID=Europe/Zurich:20250207T200000
DTEND;TZID=Europe/Zurich:20250207T220000
DTSTAMP:20260422T145837
CREATED:20240916T073632Z
LAST-MODIFIED:20241102T140747Z
UID:2365-1738958400-1738965600@compagnie.tjp.ch
SUMMARY:On décongèle Papy - Réservez vos billets
DESCRIPTION:Et si cet homme congelé était votre arrière grand-père? \nUn grand père aussi jeune que votre fils? \nBilletterie \nTel:  021 721 36 20\nHoraires d’ouverture : 13H à 18H du mardi au vendredi
URL:https://compagnie.tjp.ch/event/on-decongele-papy-6/
LOCATION:Théâtre de l’Octogone\, Av. de Lavaux 41\, Pully\, 1009\, Suisse
CATEGORIES:Tournée 2024/2025
ATTACH;FMTTYPE=image/jpeg:https://compagnie.tjp.ch/wp-content/uploads/2024/09/On-decongele-Papy-cie-2.jpg
ORGANIZER;CN="Compagnie TJP":MAILTO:compagnie@tjp.ch
END:VEVENT
BEGIN:VEVENT
DTSTART;TZID=Europe/Zurich:20250208T200000
DTEND;TZID=Europe/Zurich:20250208T220000
DTSTAMP:20260422T145837
CREATED:20240916T074359Z
LAST-MODIFIED:20240916T074421Z
UID:2419-1739044800-1739052000@compagnie.tjp.ch
SUMMARY:On décongèle Papy
DESCRIPTION:-Que faisait votre grand-père en 1920? \n-Mon Papy??  … Le papa de ma chère mamie Jeannette? \nBilletterie \nTel:  021 721 36 20\nHoraires d’ouverture : 13H à 18H du mardi au vendredi
URL:https://compagnie.tjp.ch/event/on-decongele-papy-6-2/
LOCATION:Théâtre de l’Octogone\, Av. de Lavaux 41\, Pully\, 1009\, Suisse
CATEGORIES:Tournée 2024/2025
ATTACH;FMTTYPE=image/jpeg:https://compagnie.tjp.ch/wp-content/uploads/2024/09/papy-cie-2.jpg
ORGANIZER;CN="Compagnie TJP":MAILTO:compagnie@tjp.ch
END:VEVENT
END:VCALENDAR