BEGIN:VCALENDAR
VERSION:2.0
PRODID:-//La compagnie TJP - ECPv6.15.13.1//NONSGML v1.0//EN
CALSCALE:GREGORIAN
METHOD:PUBLISH
X-WR-CALNAME:La compagnie TJP
X-ORIGINAL-URL:https://compagnie.tjp.ch
X-WR-CALDESC:Évènements pour La compagnie TJP
REFRESH-INTERVAL;VALUE=DURATION:PT1H
X-Robots-Tag:noindex
X-PUBLISHED-TTL:PT1H
BEGIN:VTIMEZONE
TZID:Europe/Zurich
BEGIN:DAYLIGHT
TZOFFSETFROM:+0100
TZOFFSETTO:+0200
TZNAME:CEST
DTSTART:20250330T010000
END:DAYLIGHT
BEGIN:STANDARD
TZOFFSETFROM:+0200
TZOFFSETTO:+0100
TZNAME:CET
DTSTART:20251026T010000
END:STANDARD
BEGIN:DAYLIGHT
TZOFFSETFROM:+0100
TZOFFSETTO:+0200
TZNAME:CEST
DTSTART:20260329T010000
END:DAYLIGHT
BEGIN:STANDARD
TZOFFSETFROM:+0200
TZOFFSETTO:+0100
TZNAME:CET
DTSTART:20261025T010000
END:STANDARD
BEGIN:DAYLIGHT
TZOFFSETFROM:+0100
TZOFFSETTO:+0200
TZNAME:CEST
DTSTART:20270328T010000
END:DAYLIGHT
BEGIN:STANDARD
TZOFFSETFROM:+0200
TZOFFSETTO:+0100
TZNAME:CET
DTSTART:20271031T010000
END:STANDARD
END:VTIMEZONE
BEGIN:VEVENT
DTSTART;VALUE=DATE:20260310
DTEND;VALUE=DATE:20260329
DTSTAMP:20260421T133006
CREATED:20260112T220703Z
LAST-MODIFIED:20260112T222824Z
UID:2614-1773100800-1774742399@compagnie.tjp.ch
SUMMARY:Les Folies du Grand palace
DESCRIPTION:Mise en scène Sara Gazzola et Magali Marbehant\, \nChorégraphie Gilles Guenat. \nUne création originale qui plonge le public dans l’univers fastueux et délirant d’un palace où règnent l’humour\, la musique et la danse.  \nBienvenue au Grand Palace\, un hôtel fantasque où tout peut arriver : personnel excentrique\, clients extravagants et situations rocambolesques s’entremêlent dans une fresque vivante et colorée ! \n\n\nBilletterie Pantographe
URL:https://compagnie.tjp.ch/event/les-folies-du-grand-palace/
LOCATION:Théâtre le Pantographe\, Av. Reller 7\, Vevey\, 1800
ATTACH;FMTTYPE=image/jpeg:https://compagnie.tjp.ch/wp-content/uploads/2022/10/palace-carre-copie-scaled.jpg
ORGANIZER;CN="Compagnie TJP":MAILTO:compagnie@tjp.ch
END:VEVENT
END:VCALENDAR